{
 "currentVersion": 10.91,
 "serviceDescription": "City of Brandon scanned imagery for 1903.",
 "name": "Imagery/Imagery_1903",
 "description": "City of Brandon scanned imagery for 1903.",
 "extent": {
  "xmin": 430718.85,
  "ymin": 5520678.45,
  "xmax": 433102.57499999995,
  "ymax": 5522746.425,
  "spatialReference": {
   "wkid": 26914,
   "latestWkid": 26914
  }
 },
 "initialExtent": {
  "xmin": 430718.85,
  "ymin": 5520678.45,
  "xmax": 433102.57499999995,
  "ymax": 5522746.425,
  "spatialReference": {
   "wkid": 26914,
   "latestWkid": 26914
  }
 },
 "fullExtent": {
  "xmin": 430718.85,
  "ymin": 5520678.45,
  "xmax": 433102.57499999995,
  "ymax": 5522746.425,
  "spatialReference": {
   "wkid": 26914,
   "latestWkid": 26914
  }
 },
 "hasMultidimensions": false,
 "pixelSizeX": 0.07499999999999926,
 "pixelSizeY": 0.0749999999999865,
 "datasetFormat": "AMD",
 "uncompressedSize": 2629057977,
 "blockWidth": 2048,
 "blockHeight": 256,
 "compressionType": "None",
 "bandNames": [
  "Band_1",
  "Band_2",
  "Band_3"
 ],
 "allowCopy": true,
 "allowAnalysis": true,
 "bandCount": 3,
 "pixelType": "U8",
 "minPixelSize": 0,
 "maxPixelSize": 0,
 "copyrightText": "",
 "serviceDataType": "esriImageServiceDataTypeRGB",
 "serviceSourceType": "esriImageServiceSourceTypeMosaicDataset",
 "minValues": [],
 "maxValues": [],
 "meanValues": [],
 "stdvValues": [],
 "objectIdField": "OBJECTID",
 "fields": [
  {
   "name": "OBJECTID",
   "type": "esriFieldTypeOID",
   "alias": "OBJECTID",
   "domain": null
  },
  {
   "name": "Category",
   "type": "esriFieldTypeInteger",
   "alias": "Category",
   "domain": {
    "type": "codedValue",
    "name": "MosaicCatalogItemCategoryDomain",
    "description": "Catalog item categories.",
    "codedValues": [
     {
      "name": "Unknown",
      "code": 0
     },
     {
      "name": "Primary",
      "code": 1
     },
     {
      "name": "Overview",
      "code": 2
     },
     {
      "name": "Unprocessed Overview",
      "code": 3
     },
     {
      "name": "Partial Overview",
      "code": 4
     },
     {
      "name": "Inactive",
      "code": 5
     },
     {
      "name": "Uploaded",
      "code": 253
     },
     {
      "name": "Incomplete",
      "code": 254
     },
     {
      "name": "Custom",
      "code": 255
     }
    ],
    "mergePolicy": "esriMPTDefaultValue",
    "splitPolicy": "esriSPTDefaultValue"
   }
  },
  {
   "name": "Shape",
   "type": "esriFieldTypeGeometry",
   "alias": "Shape",
   "domain": null
  },
  {
   "name": "Year",
   "type": "esriFieldTypeDate",
   "alias": "Year",
   "domain": null,
   "length": 8
  },
  {
   "name": "Resolution",
   "type": "esriFieldTypeString",
   "alias": "Resolution",
   "domain": {
    "type": "codedValue",
    "name": "Imagery Resolution",
    "description": "Valid resolution values.",
    "codedValues": [
     {
      "name": "N/A",
      "code": "N/A"
     },
     {
      "name": "7.5cm",
      "code": "7.5cm"
     },
     {
      "name": "10cm",
      "code": "10cm"
     },
     {
      "name": "1m",
      "code": "1m"
     },
     {
      "name": "2m",
      "code": "2m"
     },
     {
      "name": "2.5cm",
      "code": "2.5cm"
     }
    ],
    "mergePolicy": "esriMPTDefaultValue",
    "splitPolicy": "esriSPTDefaultValue"
   },
   "length": 25
  },
  {
   "name": "Metadata",
   "type": "esriFieldTypeString",
   "alias": "Metadata",
   "domain": null,
   "length": 300
  },
  {
   "name": "Company",
   "type": "esriFieldTypeString",
   "alias": "Company",
   "domain": {
    "type": "codedValue",
    "name": "Imagery Company",
    "description": "Valid companies.",
    "codedValues": [
     {
      "name": "ATLIS Geomatics",
      "code": "ATLIS Geomatics"
     },
     {
      "name": "EagleView Pictometry",
      "code": "EagleView Pictometry"
     },
     {
      "name": "Province of Manitoba",
      "code": "Province of Manitoba"
     },
     {
      "name": "Priaire Agri-Photo",
      "code": "Prairie Agri-Photo"
     }
    ],
    "mergePolicy": "esriMPTDefaultValue",
    "splitPolicy": "esriSPTDefaultValue"
   },
   "length": 250
  },
  {
   "name": "Product",
   "type": "esriFieldTypeString",
   "alias": "Product",
   "domain": {
    "type": "codedValue",
    "name": "Imagery Product",
    "description": "Valid products.",
    "codedValues": [
     {
      "name": "Orthophotography",
      "code": "Orthophotography"
     },
     {
      "name": "Flood",
      "code": "Flood"
     },
     {
      "name": "Digitized Map",
      "code": "Digitized Map"
     }
    ],
    "mergePolicy": "esriMPTDefaultValue",
    "splitPolicy": "esriSPTDefaultValue"
   },
   "length": 150
  }
 ],
 "capabilities": "Catalog,Mensuration,Image,Metadata",
 "defaultMosaicMethod": "Northwest",
 "allowedMosaicMethods": "NorthWest,Center,LockRaster,ByAttribute,Nadir,Viewpoint,Seamline,None",
 "sortField": "",
 "sortValue": null,
 "sortAscending": true,
 "mosaicOperator": "First",
 "maxDownloadSizeLimit": 2048,
 "defaultCompressionQuality": 80,
 "defaultResamplingMethod": "Bilinear",
 "maxImageHeight": 4100,
 "maxImageWidth": 15000,
 "maxRecordCount": 1000,
 "maxDownloadImageCount": 20,
 "maxMosaicImageCount": 20,
 "allowRasterFunction": true,
 "rasterFunctionInfos": [
  {
   "name": "None",
   "description": "A No-Op Function.",
   "help": ""
  }
 ],
 "rasterTypeInfos": [
  {
   "name": "Raster Dataset",
   "description": "Supports all ArcGIS Raster Datasets",
   "help": ""
  }
 ],
 "mensurationCapabilities": "Basic",
 "hasHistograms": false,
 "hasColormap": false,
 "hasRasterAttributeTable": false,
 "minScale": 0,
 "maxScale": 0,
 "exportTilesAllowed": false,
 "supportsStatistics": true,
 "supportsAdvancedQueries": true,
 "editFieldsInfo": null,
 "ownershipBasedAccessControlForRasters": null,
 "allowComputeTiePoints": false,
 "useStandardizedQueries": true,
 "advancedQueryCapabilities": {
  "useStandardizedQueries": true,
  "supportsStatistics": true,
  "supportsOrderBy": true,
  "supportsDistinct": true,
  "supportsPagination": true
 },
 "spatialReference": {
  "wkid": 26914,
  "latestWkid": 26914
 }
}
