View In:
ArcGIS JavaScript
ArcGIS Online Map Viewer
ArcGIS Earth
ArcMap
View Footprint In:
ArcGIS Online Map Viewer
Service Description: Prairie Agri-Photo imagery for the flood in 2011.
Name: Imagery/Imagery_2011_Flood
Description: Prairie Agri-Photo imagery for the flood in 2011.
Single Fused Map Cache: false
Extent:
XMin: 426691.725
YMin: 5521499.325
XMax: 435665.25
YMax: 5524975.05
Spatial Reference: 26914
(26914)
Initial Extent:
XMin: 426691.725
YMin: 5521499.325
XMax: 435665.25
YMax: 5524975.05
Spatial Reference: 26914
(26914)
Full Extent:
XMin: 426691.725
YMin: 5521499.325
XMax: 435665.25
YMax: 5524975.05
Spatial Reference: 26914
(26914)
Pixel Size X: 0.07500000000000019
Pixel Size Y: 0.07499999999999196
Band Count: 3
Pixel Type: U8
RasterFunction Infos: {"rasterFunctionInfos": [{
"name": "None",
"description": "A No-Op Function.",
"help": ""
}]}
Mensuration Capabilities: Basic
Has Histograms: false
Has Colormap: false
Has Multi Dimensions : false
Rendering Rule:
Min Scale: 0
Max Scale: 0
Copyright Text:
Service Data Type: esriImageServiceDataTypeRGB
Min Values: N/A
Max Values: N/A
Mean Values: N/A
Standard Deviation Values: N/A
Object ID Field: OBJECTID
Fields:
-
OBJECTID
(
type: esriFieldTypeOID, alias: OBJECTID
)
-
Category
(
type: esriFieldTypeInteger, alias: Category
, Coded Values:
[0: Unknown]
, [1: Primary]
, [2: Overview]
, ...6 more...
)
-
Shape
(
type: esriFieldTypeGeometry, alias: Shape
)
-
Year
(
type: esriFieldTypeDate, alias: Year, length: 8
)
-
Resolution
(
type: esriFieldTypeString, alias: Resolution, length: 25
, Coded Values:
[N/A: N/A]
, [7.5cm: 7.5cm]
, [10cm: 10cm]
, ...3 more...
)
-
Metadata
(
type: esriFieldTypeString, alias: Metadata, length: 300
)
-
Company
(
type: esriFieldTypeString, alias: Company, length: 250
, Coded Values:
[ATLIS Geomatics: ATLIS Geomatics]
, [EagleView Pictometry: EagleView Pictometry]
, [Province of Manitoba: Province of Manitoba]
, ...1 more...
)
-
Product
(
type: esriFieldTypeString, alias: Product, length: 150
, Coded Values:
[Orthophotography: Orthophotography]
, [Flood: Flood]
, [Digitized Map: Digitized Map]
)
Default Mosaic Method: Northwest
Allowed Mosaic Methods: NorthWest,Center,LockRaster,ByAttribute,Nadir,Viewpoint,Seamline,None
SortField:
SortValue: null
Mosaic Operator: First
Default Compression Quality: 80
Default Resampling Method: Bilinear
Max Record Count: 1000
Max Image Height: 4100
Max Image Width: 15000
Max Download Image Count: 20
Max Mosaic Image Count: 20
Allow Raster Function: true
Allow Copy: true
Allow Analysis: true
Allow Compute TiePoints: false
Supports Statistics: true
Supports Advanced Queries: true
Use StandardizedQueries: true
Raster Type Infos:
Name: Raster Dataset
Description: Supports all ArcGIS Raster Datasets
Help:
Has Raster Attribute Table: false
Edit Fields Info: null
Ownership Based AccessControl For Rasters: null
Child Resources:
Info
Statistics
Key Properties
Legend
Raster Function Infos
Supported Operations:
Export Image
Query
Identify
Measure
Compute Histograms
Compute Statistics Histograms
Get Samples
Compute Class Statistics
Query Boundary
Compute Pixel Location
Compute Angles
Validate
Project